BEGIN:VCALENDAR
VERSION:2.0
PRODID:-//Eventin//Event Calendar//EN
CALSCALE:GREGORIAN
METHOD:PUBLISH
BEGIN:VEVENT
UID:f6829517e6e70fd1c8f0a2d51638813b@kwekwegroup.uk
SUMMARY:Guyana (UK) Kwe Kwe Group: Emancipation Soiree
DESCRIPTION:Since 2016\, the UK Kwekwe Group has been dedicated to preservi
 ng and sharing the rich cultural heritage of Guyana—particularly the trad
 itional Kwe Kwe\, a pre-nuptial ritual rooted in African Guyanese history\
 , and is similar to the Ghanaian knocking or kokoo ko ceremony. This unique
  practice brings communities together through storytelling\, music\, dance\
 , and symbolic customs that prepare a couple for married life while celebra
 ting unity\, ancestry\, and joy. What to Expect: • A lively reenactment 
 of the Kwe Kwe ritual\, with opportunities for audience participation • T
 he rhythms of live drumming and traditional folk songs • A taste of ho
 me with delicious Creole Guyanese cuisine\, usually served at kwe kwe cer
 emonies and for celebrating Emancipation. • A warm\, welcoming atmosphere
  filled with culture\, lively music and dancing\, a reminder of importance 
 of keeping ancestral traditions alive. The Kwe Kwe ritual is a vibrant\, in
 teractive experience—featuring call-and-response songs\, playful yet mean
 ingful traditions\, and guidance from elders that reflect the values of lov
 e\, respect\, and community. Whether you're familiar with Guyanese culture 
 or discovering it for the first time\, this is a night not to be missed!\nA
 dmission: £10.00\nHow to pay/Register\nYou can book your ticket via Eventr
 brite by clicking here. It includes a booking fee. If you want to avoid the
  fee\, pay at the door or contact us at info@kwekwegroup.uk to make arrange
 ments to pay.
LOCATION:Online
DTSTAMP:20260423T103345Z
DTSTART:20260801T160000Z
DTEND:20260801T200000Z
END:VEVENT
END:VCALENDAR
